BEGIN:VCALENDAR
VERSION:2.0
PRODID:icalendar-ruby
CALSCALE:GREGORIAN
METHOD:PUBLISH
BEGIN:VEVENT
DTSTAMP:20260420T093420Z
UID:5-2789675@zaccma.org
DTSTART:20261011T144500Z
DTEND:20261011T160000Z
CLASS:PUBLIC
CREATED:20260420T012710
DESCRIPTION:Join us in person or on-line at our webiste or Youtube page  "
 The Alliance church of Zephyrhills".
LAST-MODIFIED:20260420T012710
LOCATION:The Alliance Church of Zephyrhills 
SUMMARY:Sunday Morning Service
URL;VALUE=URI:https://www.zaccma.org/events/sunday-morning-service--5/2026-
 10-11
ATTACH;FILENAME=ashim-d-silva-nUjujsVeiYo-unsplash.jpg;FMTTYPE=image/jpeg:h
 ttps://dq5pwpg1q8ru0.cloudfront.net/2020/03/26/09/34/20/3b97e62d-5f04-4fb1
 -8597-19ed0a43f0d3/ashim-d-silva-nUjujsVeiYo-unsplash.jpg
END:VEVENT
END:VCALENDAR
