BEGIN:VCALENDAR
VERSION:2.0
PRODID:icalendar-ruby
CALSCALE:GREGORIAN
METHOD:PUBLISH
BEGIN:VEVENT
DTSTAMP:20260423T113149Z
UID:7-2821015@zaccma.org
DTSTART:20261104T233000Z
DTEND:20261105T003000Z
CLASS:PUBLIC
CREATED:20260423T064839
DESCRIPTION:Join us in the church sanctuary for a time of prayer starting a
 t 6:30 pm.
LAST-MODIFIED:20260423T064839
LOCATION:at the church
SUMMARY:Prayer Meeting
URL;VALUE=URI:https://www.zaccma.org/events/prayer-meeting/2026-11-04
END:VEVENT
END:VCALENDAR
