BEGIN:VCALENDAR
VERSION:2.0
PRODID:icalendar-ruby
CALSCALE:GREGORIAN
METHOD:PUBLISH
BEGIN:VEVENT
DTSTAMP:20260421T193950Z
UID:7-2806312@zaccma.org
DTSTART:20261014T223000Z
DTEND:20261014T233000Z
CLASS:PUBLIC
CREATED:20260421T143525
DESCRIPTION:Join us in the church sanctuary for a time of prayer starting a
 t 6:30 pm.
LAST-MODIFIED:20260421T143525
LOCATION:at the church
SUMMARY:Prayer Meeting
URL;VALUE=URI:https://www.zaccma.org/events/prayer-meeting/2026-10-14
END:VEVENT
END:VCALENDAR
