BEGIN:VCALENDAR
VERSION:2.0
PRODID:icalendar-ruby
CALSCALE:GREGORIAN
METHOD:PUBLISH
BEGIN:VEVENT
DTSTAMP:20260421T150723Z
UID:7-2803044@zaccma.org
DTSTART:20260916T223000Z
DTEND:20260916T233000Z
CLASS:PUBLIC
CREATED:20260421T091934
DESCRIPTION:Join us in the church sanctuary for a time of prayer starting a
 t 6:30 pm.
LAST-MODIFIED:20260421T091934
LOCATION:at the church
SUMMARY:Prayer Meeting
URL;VALUE=URI:https://www.zaccma.org/events/prayer-meeting/2026-09-16
END:VEVENT
END:VCALENDAR
