BEGIN:VCALENDAR
VERSION:2.0
PRODID:icalendar-ruby
CALSCALE:GREGORIAN
METHOD:PUBLISH
BEGIN:VEVENT
DTSTAMP:20260423T081730Z
UID:7-2819368@zaccma.org
DTSTART:20260819T223000Z
DTEND:20260819T233000Z
CLASS:PUBLIC
CREATED:20260422T211934
DESCRIPTION:Join us in the church sanctuary for a time of prayer starting a
 t 6:30 pm.
LAST-MODIFIED:20260422T211934
LOCATION:at the church
SUMMARY:Prayer Meeting
URL;VALUE=URI:https://www.zaccma.org/events/prayer-meeting/2026-08-19
END:VEVENT
END:VCALENDAR
