BEGIN:VCALENDAR
VERSION:2.0
PRODID:icalendar-ruby
CALSCALE:GREGORIAN
METHOD:PUBLISH
BEGIN:VEVENT
DTSTAMP:20260421T080140Z
UID:7-2799775@zaccma.org
DTSTART:20260812T223000Z
DTEND:20260812T233000Z
CLASS:PUBLIC
CREATED:20260420T193744
DESCRIPTION:Join us in the church sanctuary for a time of prayer starting a
 t 6:30 pm.
LAST-MODIFIED:20260420T193744
LOCATION:at the church
SUMMARY:Prayer Meeting
URL;VALUE=URI:https://www.zaccma.org/events/prayer-meeting/2026-08-12
END:VEVENT
END:VCALENDAR
